BEGIN:VCALENDAR
VERSION:2.0
PRODID:-//EndChurch - ECPv6.15.20//NONSGML v1.0//EN
CALSCALE:GREGORIAN
METHOD:PUBLISH
X-WR-CALNAME:EndChurch
X-ORIGINAL-URL:https://my.endchurch.com.au
X-WR-CALDESC:Events for EndChurch
REFRESH-INTERVAL;VALUE=DURATION:PT1H
X-Robots-Tag:noindex
X-PUBLISHED-TTL:PT1H
BEGIN:VTIMEZONE
TZID:Australia/Brisbane
BEGIN:STANDARD
TZOFFSETFROM:+1000
TZOFFSETTO:+1000
TZNAME:AEST
DTSTART:20190101T000000
END:STANDARD
END:VTIMEZONE
BEGIN:VEVENT
DTSTART;TZID=Australia/Brisbane:20200308T090000
DTEND;TZID=Australia/Brisbane:20200308T110000
DTSTAMP:20260420T194506
CREATED:20200222T030106Z
LAST-MODIFIED:20200222T030106Z
UID:1927-1583658000-1583665200@my.endchurch.com.au
SUMMARY:The Foreshadowing - Pt 3
DESCRIPTION:During this week’s Sunday service\, Pastor Glen will continue the series examining Jesus in the Old Testament.
URL:https://my.endchurch.com.au/index.php/event/the-foreshadowing-pt-3/
LOCATION:End Church\, 8 Vulture St\, West End\, Queensland\, 4101\, Australia
CATEGORIES:Community,Music,Outreach
ATTACH;FMTTYPE=image/jpeg:https://my.endchurch.com.au/wp-content/uploads/2020/02/foreshadowing-e1582339497263.jpg
END:VEVENT
BEGIN:VEVENT
DTSTART;TZID=Australia/Brisbane:20200301T090000
DTEND;TZID=Australia/Brisbane:20200301T110000
DTSTAMP:20260420T194506
CREATED:20200222T025145Z
LAST-MODIFIED:20200222T025145Z
UID:1924-1583053200-1583060400@my.endchurch.com.au
SUMMARY:The Foreshadowing - Pt 2
DESCRIPTION:During this week’s Sunday service\, Pastor Glen will continue the series examining Jesus in the Old Testament.
URL:https://my.endchurch.com.au/index.php/event/the-foreshadowing-pt-2/
LOCATION:End Church\, 8 Vulture St\, West End\, Queensland\, 4101\, Australia
CATEGORIES:Community,Music,Outreach
ATTACH;FMTTYPE=image/jpeg:https://my.endchurch.com.au/wp-content/uploads/2020/02/foreshadowing-e1582339497263.jpg
END:VEVENT
BEGIN:VEVENT
DTSTART;TZID=Australia/Brisbane:20200223T090000
DTEND;TZID=Australia/Brisbane:20200223T090000
DTSTAMP:20260420T194506
CREATED:20200222T024305Z
LAST-MODIFIED:20200222T024607Z
UID:1921-1582448400-1582448400@my.endchurch.com.au
SUMMARY:The Foreshadowing - Pt 1
DESCRIPTION:During this week’s Sunday service\, Pastor Glen will begin a new series on examining Jesus in the Old Testament.
URL:https://my.endchurch.com.au/index.php/event/the-foreshadowing-part-1/
LOCATION:End Church\, 8 Vulture St\, West End\, Queensland\, 4101\, Australia
CATEGORIES:Community,Music,Outreach
ATTACH;FMTTYPE=image/jpeg:https://my.endchurch.com.au/wp-content/uploads/2020/02/foreshadowing-e1582339497263.jpg
END:VEVENT
END:VCALENDAR