BEGIN:VCALENDAR
VERSION:2.0
PRODID:-//EndChurch - ECPv6.15.20//NONSGML v1.0//EN
CALSCALE:GREGORIAN
METHOD:PUBLISH
X-ORIGINAL-URL:https://my.endchurch.com.au
X-WR-CALDESC:Events for EndChurch
REFRESH-INTERVAL;VALUE=DURATION:PT1H
X-Robots-Tag:noindex
X-PUBLISHED-TTL:PT1H
BEGIN:VTIMEZONE
TZID:Australia/Brisbane
BEGIN:STANDARD
TZOFFSETFROM:+1000
TZOFFSETTO:+1000
TZNAME:AEST
DTSTART:20250101T000000
END:STANDARD
END:VTIMEZONE
BEGIN:VEVENT
DTSTART;TZID=Australia/Brisbane:20260104T090000
DTEND;TZID=Australia/Brisbane:20260322T113000
DTSTAMP:20260424T182349
CREATED:20251230T015053Z
LAST-MODIFIED:20251230T015448Z
UID:3763-1767517200-1774179000@my.endchurch.com.au
SUMMARY:Jesus in Genesis
DESCRIPTION:From the opening words of Scripture\, God begins to reveal His plan of redemption through Jesus Christ. In this 12-week sermon series starting 4 January\, we’ll discover how every story\, promise and covenant in Genesis speaks His name and points us to the gospel.
URL:https://my.endchurch.com.au/index.php/event/jesus-in-genesis/
LOCATION:Hotel West End\, 10 Browning Street\, South Brisbane\, Queensland\, 4101\, Australia
ATTACH;FMTTYPE=image/jpeg:https://my.endchurch.com.au/wp-content/uploads/2025/12/Genesis-Web.jpg
END:VEVENT
END:VCALENDAR